Package: SELEX Version: 1.41.0 Command: /Library/Frameworks/R.framework/Resources/bin/R CMD INSTALL SELEX StartedAt: 2025-10-10 15:23:04 -0400 (Fri, 10 Oct 2025) EndedAt: 2025-10-10 15:23:20 -0400 (Fri, 10 Oct 2025) EllapsedTime: 15.9 seconds RetCode: 0 Status: OK