Package: SELEX Version: 1.41.0 Command: /Library/Frameworks/R.framework/Resources/bin/R CMD build --keep-empty-dirs --no-resave-data SELEX StartedAt: 2025-10-10 19:11:17 -0400 (Fri, 10 Oct 2025) EndedAt: 2025-10-10 19:11:48 -0400 (Fri, 10 Oct 2025) EllapsedTime: 30.9 seconds RetCode: 0 Status: OK PackageFile: SELEX_1.41.0.tar.gz PackageFileSize: 4.033 MiB