Package: SDAMS Version: 1.29.0 Command: /home/biocbuild/R/R/bin/R CMD INSTALL SDAMS StartedAt: 2025-10-09 21:25:58 -0000 (Thu, 09 Oct 2025) EndedAt: 2025-10-09 21:26:36 -0000 (Thu, 09 Oct 2025) EllapsedTime: 37.5 seconds RetCode: 0 Status: OK