Package: SDAMS Version: 1.29.0 Command: /home/biocbuild/R/R/bin/R CMD build --keep-empty-dirs --no-resave-data SDAMS StartedAt: 2025-10-10 04:04:31 -0000 (Fri, 10 Oct 2025) EndedAt: 2025-10-10 04:05:39 -0000 (Fri, 10 Oct 2025) EllapsedTime: 68.0 seconds RetCode: 0 Status: OK PackageFile: SDAMS_1.29.0.tar.gz PackageFileSize: 1.269 MiB