Package: SDAMS Version: 1.29.0 Command: F:\biocbuild\bbs-3.22-bioc\R\bin\R.exe CMD INSTALL SDAMS StartedAt: 2025-08-14 16:14:21 -0400 (Thu, 14 Aug 2025) EndedAt: 2025-08-14 16:14:56 -0400 (Thu, 14 Aug 2025) EllapsedTime: 35.2 seconds RetCode: 0 Status: OK