Package: SDAMS Version: 1.31.0 Command: /home/biocbuild/bbs-3.23-bioc/R/bin/R CMD build --keep-empty-dirs --no-resave-data SDAMS StartedAt: 2025-11-20 20:00:09 -0500 (Thu, 20 Nov 2025) EndedAt: 2025-11-20 20:01:00 -0500 (Thu, 20 Nov 2025) EllapsedTime: 51.0 seconds RetCode: 0 Status: OK PackageFile: SDAMS_1.31.0.tar.gz PackageFileSize: 1.281 MiB