Package: SCnorm Version: 1.33.0 Command: /home/biocbuild/bbs-3.23-bioc/R/bin/R CMD INSTALL SCnorm StartedAt: 2025-11-05 15:39:29 -0500 (Wed, 05 Nov 2025) EndedAt: 2025-11-05 15:39:54 -0500 (Wed, 05 Nov 2025) EllapsedTime: 25.9 seconds RetCode: 0 Status: OK