Package: SCnorm Version: 1.31.1 Command: /Library/Frameworks/R.framework/Resources/bin/R CMD INSTALL SCnorm StartedAt: 2025-10-03 15:30:37 -0400 (Fri, 03 Oct 2025) EndedAt: 2025-10-03 15:31:15 -0400 (Fri, 03 Oct 2025) EllapsedTime: 38.5 seconds RetCode: 0 Status: OK