Package: SCnorm Version: 1.31.1 Command: /Library/Frameworks/R.framework/Resources/bin/R CMD build --keep-empty-dirs --no-resave-data SCnorm StartedAt: 2025-10-03 18:54:49 -0400 (Fri, 03 Oct 2025) EndedAt: 2025-10-03 18:57:22 -0400 (Fri, 03 Oct 2025) EllapsedTime: 152.5 seconds RetCode: 0 Status: OK PackageFile: SCnorm_1.31.1.tar.gz PackageFileSize: 2.977 MiB