Package: SCOPE Version: 1.21.0 Command: /home/biocbuild/bbs-3.22-bioc/R/bin/R CMD check --install=check:SCOPE.install-out.txt --library=/home/biocbuild/bbs-3.22-bioc/R/site-library --timings SCOPE_1.21.0.tar.gz StartedAt: 2025-10-14 04:19:36 -0400 (Tue, 14 Oct 2025) EndedAt: 2025-10-14 04:34:25 -0400 (Tue, 14 Oct 2025) EllapsedTime: 888.9 seconds RetCode: 0 Status: OK CheckDir: SCOPE.Rcheck Warnings: 0