Package: SCOPE Version: 1.23.0 Command: /home/biocbuild/bbs-3.23-bioc/R/bin/R CMD INSTALL SCOPE StartedAt: 2025-11-04 15:33:35 -0500 (Tue, 04 Nov 2025) EndedAt: 2025-11-04 15:34:11 -0500 (Tue, 04 Nov 2025) EllapsedTime: 35.7 seconds RetCode: 0 Status: OK