Package: SCOPE Version: 1.23.0 Command: /home/biocbuild/bbs-3.23-bioc/R/bin/R CMD build --keep-empty-dirs --no-resave-data SCOPE StartedAt: 2025-11-04 19:48:55 -0500 (Tue, 04 Nov 2025) EndedAt: 2025-11-04 19:57:28 -0500 (Tue, 04 Nov 2025) EllapsedTime: 512.5 seconds RetCode: 0 Status: OK PackageFile: SCOPE_1.23.0.tar.gz PackageFileSize: 391.6 KiB