Package: SCFA Version: 1.21.0 Command: /home/biocbuild/bbs-3.23-bioc/R/bin/R CMD INSTALL SCFA StartedAt: 2025-11-07 15:07:46 -0500 (Fri, 07 Nov 2025) EndedAt: 2025-11-07 15:08:02 -0500 (Fri, 07 Nov 2025) EllapsedTime: 16.2 seconds RetCode: 0 Status: OK