Package: SCFA Version: 1.21.0 Command: /home/biocbuild/bbs-3.23-bioc/R/bin/R CMD build --keep-empty-dirs --no-resave-data SCFA StartedAt: 2025-11-07 19:48:12 -0500 (Fri, 07 Nov 2025) EndedAt: 2025-11-07 19:50:41 -0500 (Fri, 07 Nov 2025) EllapsedTime: 149.1 seconds RetCode: 0 Status: OK PackageFile: SCFA_1.21.0.tar.gz PackageFileSize: 1.241 MiB