Package: SCFA Version: 1.19.0 Command: /Library/Frameworks/R.framework/Resources/bin/R CMD INSTALL SCFA StartedAt: 2025-10-10 15:15:03 -0400 (Fri, 10 Oct 2025) EndedAt: 2025-10-10 15:15:48 -0400 (Fri, 10 Oct 2025) EllapsedTime: 44.3 seconds RetCode: 0 Status: OK