Package: SCFA Version: 1.19.0 Command: /Library/Frameworks/R.framework/Resources/bin/R CMD build --keep-empty-dirs --no-resave-data SCFA StartedAt: 2025-10-10 19:04:27 -0400 (Fri, 10 Oct 2025) EndedAt: 2025-10-10 19:07:24 -0400 (Fri, 10 Oct 2025) EllapsedTime: 176.5 seconds RetCode: 0 Status: OK PackageFile: SCFA_1.19.0.tar.gz PackageFileSize: 1.24 MiB