Package: SCFA Version: 1.19.0 Maintainer: Duc Tran MaintainerEmail: duct at nevada.unr.edu git_url: https://git.bioconductor.org/packages/SCFA git_branch: devel git_last_commit: 29eaf0a git_last_commit_date: 2025-04-15 12:12:48 -0400 (Tue, 15 Apr 2025)