Package: SCBN Version: 1.27.0 Command: /Library/Frameworks/R.framework/Resources/bin/R CMD INSTALL SCBN StartedAt: 2025-10-14 15:05:06 -0400 (Tue, 14 Oct 2025) EndedAt: 2025-10-14 15:05:19 -0400 (Tue, 14 Oct 2025) EllapsedTime: 13.0 seconds RetCode: 0 Status: OK