Package: SCBN Version: 1.27.0 Command: /Library/Frameworks/R.framework/Resources/bin/R CMD build --keep-empty-dirs --no-resave-data SCBN StartedAt: 2025-10-13 19:11:33 -0400 (Mon, 13 Oct 2025) EndedAt: 2025-10-13 19:12:44 -0400 (Mon, 13 Oct 2025) EllapsedTime: 71.3 seconds RetCode: 0 Status: OK PackageFile: SCBN_1.27.0.tar.gz PackageFileSize: 516.3 KiB