Package: SCBN Version: 1.27.0 Command: /Library/Frameworks/R.framework/Resources/bin/R CMD INSTALL SCBN StartedAt: 2025-10-03 15:01:36 -0400 (Fri, 03 Oct 2025) EndedAt: 2025-10-03 15:01:40 -0400 (Fri, 03 Oct 2025) EllapsedTime: 4.0 seconds RetCode: 0 Status: OK