Package: SCBN Version: 1.27.0 Command: /Library/Frameworks/R.framework/Resources/bin/R CMD build --keep-empty-dirs --no-resave-data SCBN StartedAt: 2025-10-03 17:35:56 -0400 (Fri, 03 Oct 2025) EndedAt: 2025-10-03 17:36:18 -0400 (Fri, 03 Oct 2025) EllapsedTime: 22.2 seconds RetCode: 0 Status: OK PackageFile: SCBN_1.27.0.tar.gz PackageFileSize: 516.3 KiB