Package: SCArray Version: 1.19.0 Command: /home/biocbuild/bbs-3.23-bioc/R/bin/R CMD check --install=check:SCArray.install-out.txt --library=/home/biocbuild/bbs-3.23-bioc/R/site-library --timings SCArray_1.19.0.tar.gz StartedAt: 2025-11-06 03:27:44 -0500 (Thu, 06 Nov 2025) EndedAt: 2025-11-06 03:31:48 -0500 (Thu, 06 Nov 2025) EllapsedTime: 244.4 seconds RetCode: 0 Status: OK CheckDir: SCArray.Rcheck Warnings: 0