Package: SCArray.sat Version: 1.11.0 Command: /home/biocbuild/bbs-3.23-bioc/R/bin/R CMD INSTALL SCArray.sat StartedAt: 2025-11-03 15:54:29 -0500 (Mon, 03 Nov 2025) EndedAt: 2025-11-03 15:55:11 -0500 (Mon, 03 Nov 2025) EllapsedTime: 41.5 seconds RetCode: 0 Status: OK