Package: SCArray.sat Version: 1.9.0 Command: /home/biocbuild/bbs-3.23-bioc/R/bin/R CMD check --install=check:SCArray.sat.install-out.txt --library=/home/biocbuild/bbs-3.23-bioc/R/site-library --timings SCArray.sat_1.9.0.tar.gz StartedAt: 2025-10-29 00:16:08 -0400 (Wed, 29 Oct 2025) EndedAt: 2025-10-29 00:22:20 -0400 (Wed, 29 Oct 2025) EllapsedTime: 372.4 seconds RetCode: 0 Status: OK CheckDir: SCArray.sat.Rcheck Warnings: 0