Package: SCANVIS Version: 1.24.0 Command: /home/biocbuild/bbs-3.22-bioc/R/bin/R CMD check --install=check:SCANVIS.install-out.txt --library=/home/biocbuild/bbs-3.22-bioc/R/site-library --timings SCANVIS_1.24.0.tar.gz StartedAt: 2025-10-30 10:00:33 -0400 (Thu, 30 Oct 2025) EndedAt: 2025-10-30 10:05:00 -0400 (Thu, 30 Oct 2025) EllapsedTime: 267.7 seconds RetCode: 1 Status: ERROR CheckDir: SCANVIS.Rcheck Warnings: NA