Package: SCANVIS Version: 1.25.0 Command: /home/biocbuild/bbs-3.23-bioc/R/bin/R CMD INSTALL SCANVIS StartedAt: 2025-11-20 15:27:07 -0500 (Thu, 20 Nov 2025) EndedAt: 2025-11-20 15:27:38 -0500 (Thu, 20 Nov 2025) EllapsedTime: 31.0 seconds RetCode: 0 Status: OK