Package: SCANVIS Version: 1.25.0 Command: /home/biocbuild/bbs-3.23-bioc/R/bin/R CMD build --keep-empty-dirs --no-resave-data SCANVIS StartedAt: 2025-11-20 19:48:19 -0500 (Thu, 20 Nov 2025) EndedAt: 2025-11-20 19:49:20 -0500 (Thu, 20 Nov 2025) EllapsedTime: 61.1 seconds RetCode: 0 Status: OK PackageFile: SCANVIS_1.25.0.tar.gz PackageFileSize: 470.5 KiB