Package: SCANVIS Version: 1.23.0 Command: /Library/Frameworks/R.framework/Resources/bin/R CMD build --keep-empty-dirs --no-resave-data SCANVIS StartedAt: 2025-10-03 18:50:21 -0400 (Fri, 03 Oct 2025) EndedAt: 2025-10-03 18:51:19 -0400 (Fri, 03 Oct 2025) EllapsedTime: 57.1 seconds RetCode: 0 Status: OK PackageFile: SCANVIS_1.23.0.tar.gz PackageFileSize: 469.5 KiB