Package: SCANVIS Version: 1.23.0 Command: rm -rf SCANVIS.buildbin-libdir && mkdir SCANVIS.buildbin-libdir && /Users/biocbuild/BBS/utils/build-universal.sh SCANVIS_1.23.0.tar.gz /Library/Frameworks/R.framework/Resources/bin/R SCANVIS.buildbin-libdir StartedAt: 2025-10-04 02:27:33 -0400 (Sat, 04 Oct 2025) EndedAt: 2025-10-04 02:28:21 -0400 (Sat, 04 Oct 2025) EllapsedTime: 47.1 seconds RetCode: 0 Status: OK PackageFile: SCANVIS_1.23.0.tgz PackageFileSize: 428.5 KiB