Package: SCAN.UPC Version: 2.51.0 Command: /home/biocbuild/R/R/bin/R CMD INSTALL SCAN.UPC StartedAt: 2025-10-09 21:30:43 -0000 (Thu, 09 Oct 2025) EndedAt: 2025-10-09 21:31:25 -0000 (Thu, 09 Oct 2025) EllapsedTime: 42.2 seconds RetCode: 0 Status: OK