Package: SCAN.UPC Version: 2.51.0 Command: F:\biocbuild\bbs-3.22-bioc\R\bin\R.exe CMD INSTALL SCAN.UPC StartedAt: 2025-08-14 16:19:16 -0400 (Thu, 14 Aug 2025) EndedAt: 2025-08-14 16:19:56 -0400 (Thu, 14 Aug 2025) EllapsedTime: 40.8 seconds RetCode: 0 Status: OK