Package: SCAN.UPC Version: 2.51.0 Command: rm -rf SCAN.UPC.buildbin-libdir && mkdir SCAN.UPC.buildbin-libdir && F:\biocbuild\bbs-3.22-bioc\R\bin\R.exe CMD INSTALL --build --library=SCAN.UPC.buildbin-libdir SCAN.UPC_2.51.0.tar.gz StartedAt: 2025-08-15 11:13:43 -0400 (Fri, 15 Aug 2025) EndedAt: 2025-08-15 11:14:30 -0400 (Fri, 15 Aug 2025) EllapsedTime: 47.3 seconds RetCode: 0 Status: OK PackageFile: SCAN.UPC_2.51.0.zip PackageFileSize: 424.9 KiB