Package: SCAN.UPC Version: 2.53.0 Command: /home/biocbuild/bbs-3.23-bioc/R/bin/R CMD check --install=check:SCAN.UPC.install-out.txt --library=/home/biocbuild/bbs-3.23-bioc/R/site-library --timings SCAN.UPC_2.53.0.tar.gz StartedAt: 2025-11-07 03:16:47 -0500 (Fri, 07 Nov 2025) EndedAt: 2025-11-07 03:20:45 -0500 (Fri, 07 Nov 2025) EllapsedTime: 238.3 seconds RetCode: 0 Status: OK CheckDir: SCAN.UPC.Rcheck Warnings: 0