Package: SC3 Version: 1.39.0 Command: /home/biocbuild/bbs-3.23-bioc/R/bin/R CMD check --install=check:SC3.install-out.txt --library=/home/biocbuild/bbs-3.23-bioc/R/site-library --timings SC3_1.39.0.tar.gz StartedAt: 2025-11-21 03:30:28 -0500 (Fri, 21 Nov 2025) EndedAt: 2025-11-21 03:40:31 -0500 (Fri, 21 Nov 2025) EllapsedTime: 602.7 seconds RetCode: 0 Status: OK CheckDir: SC3.Rcheck Warnings: 0