Package: SBMLR Version: 2.7.0 Command: /home/biocbuild/bbs-3.23-bioc/R/bin/R CMD build --keep-empty-dirs --no-resave-data SBMLR StartedAt: 2025-11-07 19:43:49 -0500 (Fri, 07 Nov 2025) EndedAt: 2025-11-07 19:43:59 -0500 (Fri, 07 Nov 2025) EllapsedTime: 10.0 seconds RetCode: 0 Status: OK PackageFile: SBMLR_2.7.0.tar.gz PackageFileSize: 274.6 KiB