Package: SBGNview Version: 1.23.0 Command: /home/biocbuild/bbs-3.22-bioc/R/bin/R CMD INSTALL SBGNview StartedAt: 2025-10-06 15:26:06 -0400 (Mon, 06 Oct 2025) EndedAt: 2025-10-06 15:26:43 -0400 (Mon, 06 Oct 2025) EllapsedTime: 36.5 seconds RetCode: 0 Status: OK