Package: SBGNview Version: 1.23.0 Command: /home/biocbuild/bbs-3.22-bioc/R/bin/R CMD build --keep-empty-dirs --no-resave-data --md5 SBGNview StartedAt: 2025-10-06 19:46:55 -0400 (Mon, 06 Oct 2025) EndedAt: 2025-10-06 19:48:59 -0400 (Mon, 06 Oct 2025) EllapsedTime: 124.1 seconds RetCode: 0 Status: OK PackageFile: SBGNview_1.23.0.tar.gz PackageFileSize: 1.679 MiB