Package: SARC Version: 1.7.1 Command: /Library/Frameworks/R.framework/Resources/bin/R CMD INSTALL SARC StartedAt: 2025-10-12 15:52:18 -0400 (Sun, 12 Oct 2025) EndedAt: 2025-10-12 15:53:11 -0400 (Sun, 12 Oct 2025) EllapsedTime: 53.3 seconds RetCode: 0 Status: OK