Package: SARC Version: 1.7.1 Command: /Library/Frameworks/R.framework/Resources/bin/R CMD build --keep-empty-dirs --no-resave-data SARC StartedAt: 2025-10-12 19:01:38 -0400 (Sun, 12 Oct 2025) EndedAt: 2025-10-12 19:05:55 -0400 (Sun, 12 Oct 2025) EllapsedTime: 256.4 seconds RetCode: 0 Status: OK PackageFile: SARC_1.7.1.tar.gz PackageFileSize: 3.511 MiB