Package: SARC Version: 1.7.1 Command: rm -rf SARC.buildbin-libdir && mkdir SARC.buildbin-libdir && /Users/biocbuild/BBS/utils/build-universal.sh SARC_1.7.1.tar.gz /Library/Frameworks/R.framework/Resources/bin/R SARC.buildbin-libdir StartedAt: 2025-10-13 02:54:32 -0400 (Mon, 13 Oct 2025) EndedAt: 2025-10-13 02:55:31 -0400 (Mon, 13 Oct 2025) EllapsedTime: 59.0 seconds RetCode: 0 Status: OK PackageFile: SARC_1.7.1.tgz PackageFileSize: 2.107 MiB