Package: SARC Version: 1.7.1 Maintainer: Krutik Patel MaintainerEmail: nkp68 at newcastle.ac.uk git_url: https://git.bioconductor.org/packages/SARC git_branch: devel git_last_commit: 1115634 git_last_commit_date: 2025-07-24 10:08:10 -0400 (Thu, 24 Jul 2025)