Package: SANTA Version: 2.47.0 Command: /home/biocbuild/bbs-3.23-bioc/R/bin/R CMD INSTALL SANTA StartedAt: 2025-11-20 15:04:56 -0500 (Thu, 20 Nov 2025) EndedAt: 2025-11-20 15:05:02 -0500 (Thu, 20 Nov 2025) EllapsedTime: 6.2 seconds RetCode: 0 Status: OK