Package: SANTA Version: 2.47.0 Command: /Library/Frameworks/R.framework/Resources/bin/R CMD INSTALL SANTA StartedAt: 2025-11-20 15:13:04 -0500 (Thu, 20 Nov 2025) EndedAt: 2025-11-20 15:13:50 -0500 (Thu, 20 Nov 2025) EllapsedTime: 45.6 seconds RetCode: 0 Status: OK