Package: SANTA Version: 2.47.0 Command: /Library/Frameworks/R.framework/Resources/bin/R CMD build --keep-empty-dirs --no-resave-data SANTA StartedAt: 2025-11-20 18:31:39 -0500 (Thu, 20 Nov 2025) EndedAt: 2025-11-20 18:31:55 -0500 (Thu, 20 Nov 2025) EllapsedTime: 16.0 seconds RetCode: 0 Status: OK PackageFile: SANTA_2.47.0.tar.gz PackageFileSize: 4.372 MiB