Package: SANTA Version: 2.47.0 Command: rm -rf SANTA.buildbin-libdir && mkdir SANTA.buildbin-libdir && /Users/biocbuild/BBS/utils/build-universal.sh SANTA_2.47.0.tar.gz /Library/Frameworks/R.framework/Resources/bin/R SANTA.buildbin-libdir StartedAt: 2025-11-20 23:50:23 -0500 (Thu, 20 Nov 2025) EndedAt: 2025-11-20 23:50:28 -0500 (Thu, 20 Nov 2025) EllapsedTime: 5.1 seconds RetCode: 0 Status: OK PackageFile: SANTA_2.47.0.tgz PackageFileSize: 4.135 MiB