Package: SAIGEgds Version: 2.11.0 Command: /home/biocbuild/bbs-3.23-bioc/R/bin/R CMD INSTALL SAIGEgds StartedAt: 2025-11-20 15:23:01 -0500 (Thu, 20 Nov 2025) EndedAt: 2025-11-20 15:24:21 -0500 (Thu, 20 Nov 2025) EllapsedTime: 80.2 seconds RetCode: 0 Status: OK