Package: SAIGEgds Version: 2.11.0 Command: /home/biocbuild/bbs-3.23-bioc/R/bin/R CMD build --keep-empty-dirs --no-resave-data SAIGEgds StartedAt: 2025-11-20 19:46:11 -0500 (Thu, 20 Nov 2025) EndedAt: 2025-11-20 19:47:42 -0500 (Thu, 20 Nov 2025) EllapsedTime: 91.1 seconds RetCode: 0 Status: OK PackageFile: SAIGEgds_2.11.0.tar.gz PackageFileSize: 1.979 MiB