Package: SAIGEgds Version: 2.9.2 Command: /Library/Frameworks/R.framework/Resources/bin/R CMD INSTALL SAIGEgds StartedAt: 2025-10-16 15:27:08 -0400 (Thu, 16 Oct 2025) EndedAt: 2025-10-16 15:27:26 -0400 (Thu, 16 Oct 2025) EllapsedTime: 18.3 seconds RetCode: 0 Status: OK