Package: SAIGEgds Version: 2.9.2 Command: /Library/Frameworks/R.framework/Resources/bin/R CMD build --keep-empty-dirs --no-resave-data SAIGEgds StartedAt: 2025-10-16 17:48:02 -0400 (Thu, 16 Oct 2025) EndedAt: 2025-10-16 17:48:29 -0400 (Thu, 16 Oct 2025) EllapsedTime: 26.4 seconds RetCode: 0 Status: OK PackageFile: SAIGEgds_2.9.2.tar.gz PackageFileSize: 1.981 MiB