Package: S4Vectors Version: 0.49.0 Command: /home/biocbuild/bbs-3.23-bioc/R/bin/R CMD INSTALL S4Vectors StartedAt: 2025-11-20 15:11:12 -0500 (Thu, 20 Nov 2025) EndedAt: 2025-11-20 15:11:35 -0500 (Thu, 20 Nov 2025) EllapsedTime: 23.5 seconds RetCode: 0 Status: OK